BEGIN:VCALENDAR
VERSION:2.0
PRODID:-//Tucson Association of REALTORS® - ECPv6.15.20//NONSGML v1.0//EN
CALSCALE:GREGORIAN
METHOD:PUBLISH
X-ORIGINAL-URL:https://www.tucsonrealtors.org
X-WR-CALDESC:Events for Tucson Association of REALTORS®
REFRESH-INTERVAL;VALUE=DURATION:PT1H
X-Robots-Tag:noindex
X-PUBLISHED-TTL:PT1H
BEGIN:VTIMEZONE
TZID:America/Phoenix
BEGIN:STANDARD
TZOFFSETFROM:-0700
TZOFFSETTO:-0700
TZNAME:MST
DTSTART:20230101T000000
END:STANDARD
END:VTIMEZONE
BEGIN:VEVENT
DTSTART;TZID=America/Phoenix:20241114T090000
DTEND;TZID=America/Phoenix:20241114T160000
DTSTAMP:20260421T020620
CREATED:20240909T215339Z
LAST-MODIFIED:20240909T215339Z
UID:8555-1731574800-1731600000@www.tucsonrealtors.org
SUMMARY:At Home with Diversity Certification Course
DESCRIPTION:Thursday\, November 14\, 2024 (9:00 AM to 4:00 PM) \n1-Day certification course\, In-Person \nCost: $75 Member; $85 Non-Member \nCourse Description:\nAt Home with Diversity® is an educational experience designed to present a picture of the changing face of the real estate industry. More importantly\, the class teaches REALTORS® how to work effectively with and within a rapidly changing multicultural market. \nCourse Credits:\n• This course will give students the At Home With Diversity® certification.\n• Counts as one elective course to be applied towards the RSPS Certification.\n• Counts as one REBAC elective course to be applied towards the ABR® designation.\n• Credit towards the CIPS Designation.\n• Students who have taken At Home with Diversity after 1/1/05 receive Eight Elective credits towards the CRS Designation.\n• Credit towards NAR’s Performance Management Network Designation through Women’s Council of REALTORS®. \n$25* Cancellation fee (*No cancellation fee if cancelled by November 7th)\n$25 No Show fee \nQuestions\, please email education@tucsonrealtors.org. \nPresented by the National Association of REALTORS® and the Center for REALTOR® Development.\nFor more information on this course and its business principles\, please contact NAR at ahwd@nar.realtor or 800-874-6500 ext. 8393.
URL:https://www.tucsonrealtors.org/event/at-home-with-diversity-certification-course/
LOCATION:Tucson Association of REALTORS®\, 2445 N Tucson Blvd.\, Tucson\, AZ\, 85716\, United States
CATEGORIES:At Home With Diversity,Certification
ATTACH;FMTTYPE=image/png:https://www.tucsonrealtors.org/wp-content/uploads/DiversityClass_WEB.png
ORGANIZER;CN="Professional Development - TAR":MAILTO:Education@tucsonrealtors.org
END:VEVENT
END:VCALENDAR